BEGIN:VCALENDAR
VERSION:2.0
PRODID:-//Oklahoma University Hockey - ECPv6.15.20//NONSGML v1.0//EN
CALSCALE:GREGORIAN
METHOD:PUBLISH
X-ORIGINAL-URL:https://www.ouhockey.com
X-WR-CALDESC:Events for Oklahoma University Hockey
REFRESH-INTERVAL;VALUE=DURATION:PT1H
X-Robots-Tag:noindex
X-PUBLISHED-TTL:PT1H
BEGIN:VTIMEZONE
TZID:America/Chicago
BEGIN:DAYLIGHT
TZOFFSETFROM:-0600
TZOFFSETTO:-0500
TZNAME:CDT
DTSTART:20240310T080000
END:DAYLIGHT
BEGIN:STANDARD
TZOFFSETFROM:-0500
TZOFFSETTO:-0600
TZNAME:CST
DTSTART:20241103T070000
END:STANDARD
BEGIN:DAYLIGHT
TZOFFSETFROM:-0600
TZOFFSETTO:-0500
TZNAME:CDT
DTSTART:20250309T080000
END:DAYLIGHT
BEGIN:STANDARD
TZOFFSETFROM:-0500
TZOFFSETTO:-0600
TZNAME:CST
DTSTART:20251102T070000
END:STANDARD
BEGIN:DAYLIGHT
TZOFFSETFROM:-0600
TZOFFSETTO:-0500
TZNAME:CDT
DTSTART:20260308T080000
END:DAYLIGHT
BEGIN:STANDARD
TZOFFSETFROM:-0500
TZOFFSETTO:-0600
TZNAME:CST
DTSTART:20261101T070000
END:STANDARD
END:VTIMEZONE
BEGIN:VEVENT
DTSTART;TZID=America/Chicago:20250207T190000
DTEND;TZID=America/Chicago:20250207T220000
DTSTAMP:20260422T091335
CREATED:20240612T224426Z
LAST-MODIFIED:20240612T224426Z
UID:10000060-1738954800-1738965600@www.ouhockey.com
SUMMARY:Colorado
DESCRIPTION:
URL:https://www.ouhockey.com/calendar/colorado-3/
LOCATION:Arctic Edge Ice Arena\, 14613 N. Kelly Ave.\, Edmond\, OK\, 73013
CATEGORIES:Games Schedule
END:VEVENT
BEGIN:VEVENT
DTSTART;TZID=America/Chicago:20250208T190000
DTEND;TZID=America/Chicago:20250208T220000
DTSTAMP:20260422T091335
CREATED:20240612T224449Z
LAST-MODIFIED:20240612T224449Z
UID:10000061-1739041200-1739052000@www.ouhockey.com
SUMMARY:Colorado
DESCRIPTION:
URL:https://www.ouhockey.com/calendar/colorado-4/
LOCATION:Arctic Edge Ice Arena\, 14613 N. Kelly Ave.\, Edmond\, OK\, 73013
CATEGORIES:Games Schedule
END:VEVENT
BEGIN:VEVENT
DTSTART;TZID=America/Chicago:20250214T190000
DTEND;TZID=America/Chicago:20250214T220000
DTSTAMP:20260422T091335
CREATED:20240612T224600Z
LAST-MODIFIED:20240612T224600Z
UID:10000062-1739559600-1739570400@www.ouhockey.com
SUMMARY:UCO
DESCRIPTION:
URL:https://www.ouhockey.com/calendar/uco-3/
LOCATION:Arctic Edge Ice Arena\, 14613 N. Kelly Ave.\, Edmond\, OK\, 73013
CATEGORIES:Games Schedule
END:VEVENT
END:VCALENDAR