BEGIN:VCALENDAR
VERSION:2.0
PRODID:-//Oklahoma University Hockey - ECPv6.15.20//NONSGML v1.0//EN
CALSCALE:GREGORIAN
METHOD:PUBLISH
X-ORIGINAL-URL:https://www.ouhockey.com
X-WR-CALDESC:Events for Oklahoma University Hockey
REFRESH-INTERVAL;VALUE=DURATION:PT1H
X-Robots-Tag:noindex
X-PUBLISHED-TTL:PT1H
BEGIN:VTIMEZONE
TZID:America/Los_Angeles
BEGIN:DAYLIGHT
TZOFFSETFROM:-0800
TZOFFSETTO:-0700
TZNAME:PDT
DTSTART:20240310T100000
END:DAYLIGHT
BEGIN:STANDARD
TZOFFSETFROM:-0700
TZOFFSETTO:-0800
TZNAME:PST
DTSTART:20241103T090000
END:STANDARD
BEGIN:DAYLIGHT
TZOFFSETFROM:-0800
TZOFFSETTO:-0700
TZNAME:PDT
DTSTART:20250309T100000
END:DAYLIGHT
BEGIN:STANDARD
TZOFFSETFROM:-0700
TZOFFSETTO:-0800
TZNAME:PST
DTSTART:20251102T090000
END:STANDARD
BEGIN:DAYLIGHT
TZOFFSETFROM:-0800
TZOFFSETTO:-0700
TZNAME:PDT
DTSTART:20260308T100000
END:DAYLIGHT
BEGIN:STANDARD
TZOFFSETFROM:-0700
TZOFFSETTO:-0800
TZNAME:PST
DTSTART:20261101T090000
END:STANDARD
END:VTIMEZONE
BEGIN:VTIMEZONE
TZID:America/Denver
BEGIN:DAYLIGHT
TZOFFSETFROM:-0700
TZOFFSETTO:-0600
TZNAME:MDT
DTSTART:20240310T090000
END:DAYLIGHT
BEGIN:STANDARD
TZOFFSETFROM:-0600
TZOFFSETTO:-0700
TZNAME:MST
DTSTART:20241103T080000
END:STANDARD
BEGIN:DAYLIGHT
TZOFFSETFROM:-0700
TZOFFSETTO:-0600
TZNAME:MDT
DTSTART:20250309T090000
END:DAYLIGHT
BEGIN:STANDARD
TZOFFSETFROM:-0600
TZOFFSETTO:-0700
TZNAME:MST
DTSTART:20251102T080000
END:STANDARD
BEGIN:DAYLIGHT
TZOFFSETFROM:-0700
TZOFFSETTO:-0600
TZNAME:MDT
DTSTART:20260308T090000
END:DAYLIGHT
BEGIN:STANDARD
TZOFFSETFROM:-0600
TZOFFSETTO:-0700
TZNAME:MST
DTSTART:20261101T080000
END:STANDARD
END:VTIMEZONE
BEGIN:VEVENT
DTSTART;TZID=America/Los_Angeles:20250117T193000
DTEND;TZID=America/Los_Angeles:20250117T220000
DTSTAMP:20260425T060725
CREATED:20240612T224146Z
LAST-MODIFIED:20241011T174819Z
UID:10000056-1737142200-1737151200@www.ouhockey.com
SUMMARY:@ San Diego State (Game Time PST)
DESCRIPTION:
URL:https://www.ouhockey.com/calendar/san-diego-state/
LOCATION:Kroc Ice Arena\, 6845 University Avenue\, San Diego\, CA\, 92115\, United States
CATEGORIES:Games Schedule
END:VEVENT
BEGIN:VEVENT
DTSTART;TZID=America/Los_Angeles:20250118T203000
DTEND;TZID=America/Los_Angeles:20250118T230000
DTSTAMP:20260425T060725
CREATED:20240612T224213Z
LAST-MODIFIED:20241011T174708Z
UID:10000057-1737232200-1737241200@www.ouhockey.com
SUMMARY:@ San Diego State (Game Time PST)
DESCRIPTION:
URL:https://www.ouhockey.com/calendar/san-diego-state-2/
LOCATION:Kroc Ice Arena\, 6845 University Avenue\, San Diego\, CA\, 92115\, United States
CATEGORIES:Games Schedule
END:VEVENT
BEGIN:VEVENT
DTSTART;TZID=America/Denver:20250124T200000
DTEND;TZID=America/Denver:20250124T220000
DTSTAMP:20260425T060725
CREATED:20240612T224319Z
LAST-MODIFIED:20250125T022122Z
UID:10000058-1737748800-1737756000@www.ouhockey.com
SUMMARY:@ Colorado (Game Time MST)
DESCRIPTION:
URL:https://www.ouhockey.com/calendar/colorado/
LOCATION:CU Ice Rink\, 1855 Pleasant St.\, Boulder\, CO\, 80302
CATEGORIES:Games Schedule
END:VEVENT
BEGIN:VEVENT
DTSTART;TZID=America/Denver:20250125T190000
DTEND;TZID=America/Denver:20250125T220000
DTSTAMP:20260425T060725
CREATED:20240612T224339Z
LAST-MODIFIED:20241008T193437Z
UID:10000059-1737831600-1737842400@www.ouhockey.com
SUMMARY:@ Colorado (Game Time MST)
DESCRIPTION:
URL:https://www.ouhockey.com/calendar/colorado-2/
LOCATION:CU Ice Rink\, 1855 Pleasant St.\, Boulder\, CO\, 80302
CATEGORIES:Games Schedule
END:VEVENT
END:VCALENDAR