BEGIN:VCALENDAR
VERSION:2.0
PRODID:-//Oklahoma University Hockey - ECPv6.15.20//NONSGML v1.0//EN
CALSCALE:GREGORIAN
METHOD:PUBLISH
X-WR-CALNAME:Oklahoma University Hockey
X-ORIGINAL-URL:https://www.ouhockey.com
X-WR-CALDESC:Events for Oklahoma University Hockey
REFRESH-INTERVAL;VALUE=DURATION:PT1H
X-Robots-Tag:noindex
X-PUBLISHED-TTL:PT1H
BEGIN:VTIMEZONE
TZID:America/Chicago
BEGIN:DAYLIGHT
TZOFFSETFROM:-0600
TZOFFSETTO:-0500
TZNAME:CDT
DTSTART:20230312T080000
END:DAYLIGHT
BEGIN:STANDARD
TZOFFSETFROM:-0500
TZOFFSETTO:-0600
TZNAME:CST
DTSTART:20231105T070000
END:STANDARD
BEGIN:DAYLIGHT
TZOFFSETFROM:-0600
TZOFFSETTO:-0500
TZNAME:CDT
DTSTART:20240310T080000
END:DAYLIGHT
BEGIN:STANDARD
TZOFFSETFROM:-0500
TZOFFSETTO:-0600
TZNAME:CST
DTSTART:20241103T070000
END:STANDARD
BEGIN:DAYLIGHT
TZOFFSETFROM:-0600
TZOFFSETTO:-0500
TZNAME:CDT
DTSTART:20250309T080000
END:DAYLIGHT
BEGIN:STANDARD
TZOFFSETFROM:-0500
TZOFFSETTO:-0600
TZNAME:CST
DTSTART:20251102T070000
END:STANDARD
END:VTIMEZONE
BEGIN:VEVENT
DTSTART;TZID=America/Chicago:20240905T193000
DTEND;TZID=America/Chicago:20240905T223000
DTSTAMP:20260423T073434
CREATED:20240612T205517Z
LAST-MODIFIED:20240612T205912Z
UID:10000036-1725564600-1725575400@www.ouhockey.com
SUMMARY:@ Arkansas
DESCRIPTION:
URL:https://www.ouhockey.com/calendar/arkansas/
LOCATION:Jones Arena\, 922 E. Emma Ave.\, Springdale\, AR\, United States
CATEGORIES:Games Schedule
END:VEVENT
BEGIN:VEVENT
DTSTART;TZID=America/Chicago:20240906T193000
DTEND;TZID=America/Chicago:20240906T223000
DTSTAMP:20260423T073434
CREATED:20240612T205849Z
LAST-MODIFIED:20240612T205849Z
UID:10000037-1725651000-1725661800@www.ouhockey.com
SUMMARY:@ Arkansas
DESCRIPTION:
URL:https://www.ouhockey.com/calendar/arkansas-2/
LOCATION:Jones Arena\, 922 E. Emma Ave.\, Springdale\, AR\, United States
CATEGORIES:Games Schedule
END:VEVENT
BEGIN:VEVENT
DTSTART;TZID=America/Chicago:20240913T190000
DTEND;TZID=America/Chicago:20240913T220000
DTSTAMP:20260423T073434
CREATED:20240612T220659Z
LAST-MODIFIED:20240612T220659Z
UID:10000038-1726254000-1726264800@www.ouhockey.com
SUMMARY:Waldorf
DESCRIPTION:
URL:https://www.ouhockey.com/calendar/waldorf/2024-09-13/
LOCATION:Arctic Edge Ice Arena\, 14613 N. Kelly Ave.\, Edmond\, OK\, 73013
CATEGORIES:Games Schedule
END:VEVENT
BEGIN:VEVENT
DTSTART;TZID=America/Chicago:20240914T190000
DTEND;TZID=America/Chicago:20240914T220000
DTSTAMP:20260423T073434
CREATED:20240612T220659Z
LAST-MODIFIED:20240612T220659Z
UID:10000039-1726340400-1726351200@www.ouhockey.com
SUMMARY:Waldorf
DESCRIPTION:
URL:https://www.ouhockey.com/calendar/waldorf/2024-09-14/
LOCATION:Arctic Edge Ice Arena\, 14613 N. Kelly Ave.\, Edmond\, OK\, 73013
CATEGORIES:Games Schedule
END:VEVENT
BEGIN:VEVENT
DTSTART;TZID=America/Chicago:20240926T200000
DTEND;TZID=America/Chicago:20240926T230000
DTSTAMP:20260423T073434
CREATED:20240612T220958Z
LAST-MODIFIED:20240612T224808Z
UID:10000040-1727380800-1727391600@www.ouhockey.com
SUMMARY:@ Alabama
DESCRIPTION:
URL:https://www.ouhockey.com/calendar/alabama/
LOCATION:Pelham Civic Complex\, 500 Amphitheater Rd.\, Pelham\, AL\, 35124
CATEGORIES:Games Schedule
END:VEVENT
BEGIN:VEVENT
DTSTART;TZID=America/Chicago:20240927T190000
DTEND;TZID=America/Chicago:20240927T220000
DTSTAMP:20260423T073434
CREATED:20240612T221208Z
LAST-MODIFIED:20240612T221208Z
UID:10000041-1727463600-1727474400@www.ouhockey.com
SUMMARY:@ Alabama
DESCRIPTION:
URL:https://www.ouhockey.com/calendar/alabama-2/
LOCATION:Pelham Civic Complex\, 500 Amphitheater Rd.\, Pelham\, AL\, 35124
CATEGORIES:Games Schedule
END:VEVENT
END:VCALENDAR